BEGIN:VCALENDAR
VERSION:2.0
PRODID:-//Clinical Trials Alberta - ECPv6.13.1//NONSGML v1.0//EN
CALSCALE:GREGORIAN
METHOD:PUBLISH
X-ORIGINAL-URL:https://clinicaltrialsab.ca
X-WR-CALDESC:Events for Clinical Trials Alberta
REFRESH-INTERVAL;VALUE=DURATION:PT1H
X-Robots-Tag:noindex
X-PUBLISHED-TTL:PT1H
BEGIN:VTIMEZONE
TZID:America/Edmonton
BEGIN:DAYLIGHT
TZOFFSETFROM:-0700
TZOFFSETTO:-0600
TZNAME:MDT
DTSTART:20230312T090000
END:DAYLIGHT
BEGIN:STANDARD
TZOFFSETFROM:-0600
TZOFFSETTO:-0700
TZNAME:MST
DTSTART:20231105T080000
END:STANDARD
END:VTIMEZONE
BEGIN:VEVENT
DTSTART;VALUE=DATE:20231018
DTEND;VALUE=DATE:20231019
DTSTAMP:20260418T213612
CREATED:20230809T223735Z
LAST-MODIFIED:20230809T223735Z
UID:3964-1697587200-1697673599@clinicaltrialsab.ca
SUMMARY:WCHRI Research Day 2023
DESCRIPTION:WCHRI will host its annual Research Day on October 18. This year our format returns to an in-person event! \nWCHRI Research Day brings our members and stakeholders together to share common interests and research outputs on women and children’s health and is a great venue for our trainees to communicate their recent work\, discuss their research and network with colleagues. Presentations for Research Day will be combined into themed sessions. \nWe are delighted to welcome Bernard Thébaud as our keynote speaker. Thébaud is a senior scientist of the Regenerative Medicine Program at the Ottawa Hospital Research Institute\, a clinician-scientist in the field of stem-cell/regenerative medicine\, a practicing neonatologist and a past\, and one of the earliest\, WCHRI members. \nDate: October 18 \nLocation:  The Westin Hotel 10135 100th Street\, Edmonton \nFor more information and registration. \n\n \n\n\n\n\n\n\n\n\n\n\nQuestions? Contact wcgrants@ualberta.ca.
URL:https://clinicaltrialsab.ca/event/wchri-research-day-2023/
LOCATION:Westin Hotel\, 10135 100th Street\, Edmonton\, Alberta\, T5J 0N7\, Canada
ORGANIZER;CN="Women and Children%E2%80%99s Health Research Institute":MAILTO:WCHRI@ualberta.ca
END:VEVENT
END:VCALENDAR