BEGIN:VCALENDAR
VERSION:2.0
PRODID:-//Clinical Trials Alberta - ECPv6.13.1//NONSGML v1.0//EN
CALSCALE:GREGORIAN
METHOD:PUBLISH
X-WR-CALNAME:Clinical Trials Alberta
X-ORIGINAL-URL:https://clinicaltrialsab.ca
X-WR-CALDESC:Events for Clinical Trials Alberta
REFRESH-INTERVAL;VALUE=DURATION:PT1H
X-Robots-Tag:noindex
X-PUBLISHED-TTL:PT1H
BEGIN:VTIMEZONE
TZID:America/Edmonton
BEGIN:DAYLIGHT
TZOFFSETFROM:-0700
TZOFFSETTO:-0600
TZNAME:MDT
DTSTART:20230312T090000
END:DAYLIGHT
BEGIN:STANDARD
TZOFFSETFROM:-0600
TZOFFSETTO:-0700
TZNAME:MST
DTSTART:20231105T080000
END:STANDARD
END:VTIMEZONE
BEGIN:VEVENT
DTSTART;VALUE=DATE:20231003
DTEND;VALUE=DATE:20231005
DTSTAMP:20260418T202755
CREATED:20230804T212238Z
LAST-MODIFIED:20230804T213244Z
UID:3934-1696291200-1696463999@clinicaltrialsab.ca
SUMMARY:2023 NorthWest SPOR Collaborative Forum ANNUAL CONFERENCE
DESCRIPTION:Join us for the 2023 NorthWest SPOR Collaborative Forum on Patient-Oriented Research\, hosted by the Alberta SPOR SUPPORT Unit. This year’s theme is “Your Stories: Creating Impact Through Patient-Oriented Research“. This hybrid (in-person and online) event will include plenary panel sessions\, workshop presentations\, networking activities\, a poster session\, highlighted oral abstract presentations\, and much more! \n\n\n\n\n\n\n\n\n\n\n\nWhether held in-person\, virtually\, or both\, our annual conference provides inclusive capacity development opportunities in patient-oriented research (POR) towards the shared goals of increased access to high-quality health care and improved patient outcomes. This event is open to researchers\, students\, clinicians\, patients and caregivers\, health-system professionals\, policymakers\, and more. \n\n\n\n\n\n\n\n\n\n\n\n\n\n\n\n\n\n\n\n\n\n\nThe conference provides opportunities for: \n\nAttendees to engage with other members of the POR community\, in order to facilitate training\, growth\, and support in the practice of POR;\nRecognizing\, showcasing\, and celebrating POR success\, innovation\, talent\, and partnerships in Alberta and beyond; and\nFurthering AbSPORU’s mandate to support Alberta-based POR and its impacts for health system transformation and enhanced patient outcomes.\n\n\n\n\n\n\n\n\n\n\n\n\nWe are looking for presenters to submit abstracts that focus on research that contributes to the continuum of patient-oriented research and relates to this year’s conference theme: Your Stories: Creating Impact Through Patient-Oriented Research. \nDeadline for Abstract Submissions: July 10\, 2023\, 11:59 PM MT \n  \nDates:\nDay 1: Tuesday\, October 3\, 2023 | In-person at the Matrix Hotel in Edmonton\, Alberta\nDay 2: Wednesday\, October 4\, 2023 | Virtual \nLocation: Hybrid (in-person and online) \nRegistration opens soon \nDirect questions to diana.ketolambert@ucalgary.ca
URL:https://clinicaltrialsab.ca/event/2023-northwest-spor-collaborative-forum-annual-conference/
LOCATION:Hybrid\, Matrix Hotel 10640-100 Avenue\, Edmonton\, Alberta\, T5J 3N8\, Canada
ORGANIZER;CN="Alberta SPOR SUPPORT Unit":MAILTO:sporab@ualberta.ca
END:VEVENT
END:VCALENDAR